BEGIN:VCALENDAR
VERSION:2.0
PRODID:-//eventon.com NONSGML v1.0//EN
CALSCALE:GREGORIAN
METHOD:PUBLISH
BEGIN:VEVENT
UID:69e8e620ab323
DTSTAMP:20260422T151544Z
DTSTART:20260417T200000Z
DTEND:20260417T210000Z
LOCATION:
SUMMARY:Chorus Concert
DESCRIPTION:State FFA Chorus – Director: Beth Dampf\,  Choral Director\, 
  California: Accompanist: Beth Eckles\,  Jefferson City “Praise His Holy 
 Name” — Arranged by Keith Hampton “Crowded Table” — Words & Music
  by Natalie Hemby\,  Lori McKenna & Brandi Carlile; Arranged by Andrea Rams
 ey “Tell My Father” — Words by Jack Murphy;[..]\nhttps://convention.m
 issouriffa.org/events/chorus-concert/
URL:https://convention.missouriffa.org/events/chorus-concert/
END:VEVENT
END:VCALENDAR