BEGIN:VCALENDAR
VERSION:2.0
PRODID:-//eventon.com NONSGML v1.0//EN
CALSCALE:GREGORIAN
METHOD:PUBLISH
BEGIN:VEVENT
UID:69e8caed03989
DTSTAMP:20260422T131941Z
DTSTART:20260417T210000Z
DTEND:20260418T010000Z
LOCATION:
SUMMARY:Fifth Session
DESCRIPTION:National Anthem “Star Spangled Banner” Arrangement\,  Jamey
  Ray — 2026 State FFA Chorus Opening Ceremony — 2025-2026 State FFA Off
 icers Session Moderators — State Vice Presidents Annie Neely\,  Lockwood 
 FFA & Kolton Stolba\,  Willow Springs FFA Invocation — Harlee Beck\,  Sta
 te Vice President\,  Chillicothe FFA Session Reflections — Ivy Elwell\, [
 ..]\nhttps://convention.missouriffa.org/events/fifth-session/
URL:https://convention.missouriffa.org/events/fifth-session/
END:VEVENT
END:VCALENDAR