BEGIN:VCALENDAR
VERSION:2.0
PRODID:-//eventon.com NONSGML v1.0//EN
CALSCALE:GREGORIAN
METHOD:PUBLISH
BEGIN:VEVENT
UID:69e8caf4bdea4
DTSTAMP:20260422T131948Z
DTSTART:20260417T163000Z
DTEND:20260417T190000Z
LOCATION:
SUMMARY:Fourth Session
DESCRIPTION:Opening Ceremony — 2025-2026 State FFA Officers Session Moder
 ators — State Vice Presidents Cierra Britton\,  Cuba FFA & Sophie Geppert
 \,  North Callaway FFA Invocation — Kolton Stolba\,  State Vice President
 \,  Willow Springs FFA Chapter Career Development Event Results — Wednesd
 ay/Thursday Events (in order of presentation) Agricultural Mechanics Agrono
 my Dairy Cattle[..]\nhttps://convention.missouriffa.org/events/fourth-sessi
 on/
URL:https://convention.missouriffa.org/events/fourth-session/
END:VEVENT
END:VCALENDAR