BEGIN:VCALENDAR
VERSION:2.0
PRODID:-//eventon.com NONSGML v1.0//EN
CALSCALE:GREGORIAN
METHOD:PUBLISH
BEGIN:VEVENT
UID:69e8e5ed0f31a
DTSTAMP:20260422T151453Z
DTSTART:20260416T230000Z
DTEND:20260417T030000Z
LOCATION:
SUMMARY:Third Session
DESCRIPTION:Opening Ceremony — 2025-2026 State FFA Officers Session Moder
 ators — State Vice Presidents Lindsay McDonald\,  Mt. Vernon FFA and Tayl
 or Nothdurft\,  Oak Ridge FFA Invocation —Sophie Geppert\,  State Vice Pr
 esident\,  North Callaway FFA National Anthem — Lindsleigh Todd\,  Mansfi
 eld FFA Session Reflections — Ryatt Haggerman\,  Annie Neely\,  Kolton St
 olba\,  Maddy[..]\nhttps://convention.missouriffa.org/events/third-session/
URL:https://convention.missouriffa.org/events/third-session/
END:VEVENT
END:VCALENDAR