BEGIN:VCALENDAR
VERSION:2.0
PRODID:-//eventon.com NONSGML v1.0//EN
CALSCALE:GREGORIAN
METHOD:PUBLISH
BEGIN:VEVENT
UID:69e8c96848aa4
DTSTAMP:20260422T131312Z
DTSTART:20260416T190000Z
DTEND:20260416T220000Z
LOCATION:
SUMMARY:Second Session
DESCRIPTION:Opening Ceremony — 2025-2026 State FFA Officers Session Moder
 ators — State Vice Presidents Maddy Rash\,  Buffalo FFA and Noah Groose\,
   Dadeville FFA Invocation — Taylor Nothdurft\,  State Vice President\,  
 Oak Ridge FFA Session Reflections — Cierra Britton\,  Harlee Beck\,  Abig
 ayle Lett\,  Braxton Watts Welcome to Mizzou — Dean Christopher Daubert\,
  [..]\nhttps://convention.missouriffa.org/events/second-session/
URL:https://convention.missouriffa.org/events/second-session/
END:VEVENT
END:VCALENDAR