BEGIN:VCALENDAR
VERSION:2.0
PRODID:-//eventon.com NONSGML v1.0//EN
CALSCALE:GREGORIAN
METHOD:PUBLISH
BEGIN:VEVENT
UID:69e8c9596e716
DTSTAMP:20260422T131257Z
DTSTART:20260415T230000Z
DTEND:20260416T045000Z
LOCATION:
SUMMARY:First Session
DESCRIPTION:Opening Ceremony — 2025-2026 State FFA Officers Session Moder
 ators—State Vice Presidents Cash Honeycutt\,  Orrick FFA and Gage Swindle
 r\,  Braymer FFA Invocation – Braxton Watts\,  State Vice President\,  El
  Dorado Springs FFA National Anthem — Cheston Wilson\,  Dixon FFA Session
  Reflections – Seth Engemean\,  Taylor Notdurft\,  Lindsay McDonald & Noa
 h Groose[..]\nhttps://convention.missouriffa.org/events/first-session/
URL:https://convention.missouriffa.org/events/first-session/
END:VEVENT
END:VCALENDAR